BEGIN:VCALENDAR
VERSION:2.0
PRODID:-//Department Of Education//1795379f-3bdb-4afe-ae81-7866240e2b02
BEGIN:VTIMEZONE
TZID:Australia/Sydney
TZURL:http://tzurl.org/zoneinfo-outlook/Australia/Sydney
X-LIC-LOCATION:Australia/Sydney
BEGIN:STANDARD
TZOFFSETFROM:+1100
TZOFFSETTO:+1000
TZNAME:AEST
DTSTART:19700405T030000
RRULE:FREQ=YEARLY;BYMONTH=4;BYDAY=1SU
END:STANDARD
BEGIN:DAYLIGHT
TZOFFSETFROM:+1000
TZOFFSETTO:+1100
TZNAME:AEDT
DTSTART:19701004T020000
RRULE:FREQ=YEARLY;BYMONTH=10;BYDAY=1SU
END:DAYLIGHT
END:VTIMEZONE
CALSCALE:GREGORIAN
X-WR-TIMEZONE:Australia/Sydney
BEGIN:VEVENT
DTSTART;TZID=Australia/Sydney:20200320T110000
DTEND;TZID=Australia/Sydney:20200320T120000
DTSTAMP:20200320T000000Z
UID:f8d25e64-7697-49bb-b194-c50fb1f84466
LOCATION:Sick Bay
SUMMARY;LANGUAGE=en-us:Immunisation for Year 7 & 10
SEQUENCE:0
DESCRIPTION:Immunisation for Years 7 & 10
END:VEVENT
TRANSP:TRANSPARENT
END:VCALENDAR
