BEGIN:VCALENDAR
VERSION:2.0
PRODID:-//Department Of Education//2181700f-c49b-4096-b2fd-068df11f6e26
BEGIN:VTIMEZONE
TZID:Australia/Sydney
TZURL:http://tzurl.org/zoneinfo-outlook/Australia/Sydney
X-LIC-LOCATION:Australia/Sydney
BEGIN:STANDARD
TZOFFSETFROM:+1100
TZOFFSETTO:+1000
TZNAME:AEST
DTSTART:19700405T030000
RRULE:FREQ=YEARLY;BYMONTH=4;BYDAY=1SU
END:STANDARD
BEGIN:DAYLIGHT
TZOFFSETFROM:+1000
TZOFFSETTO:+1100
TZNAME:AEDT
DTSTART:19701004T020000
RRULE:FREQ=YEARLY;BYMONTH=10;BYDAY=1SU
END:DAYLIGHT
END:VTIMEZONE
CALSCALE:GREGORIAN
X-WR-TIMEZONE:Australia/Sydney
BEGIN:VEVENT
DTSTART;TZID=Australia/Sydney:20200304T090000
DTEND;TZID=Australia/Sydney:20200304T150000
DTSTAMP:20200304T000000Z
UID:487652f6-6573-4020-9d08-bba05bfc15c8
LOCATION:TRCS
SUMMARY;LANGUAGE=en-us:School Photographs
SEQUENCE:0
DESCRIPTION:Please ensure each child has returned an order. If not already returned they must bring their form with them on the day.
END:VEVENT
TRANSP:TRANSPARENT
END:VCALENDAR
