BEGIN:VCALENDAR
VERSION:2.0
PRODID:-//Department Of Education//13501ee3-f4db-42c0-b230-f4da5f12c18a
BEGIN:VTIMEZONE
TZID:Australia/Sydney
TZURL:http://tzurl.org/zoneinfo-outlook/Australia/Sydney
X-LIC-LOCATION:Australia/Sydney
BEGIN:STANDARD
TZOFFSETFROM:+1100
TZOFFSETTO:+1000
TZNAME:AEST
DTSTART:19700405T030000
RRULE:FREQ=YEARLY;BYMONTH=4;BYDAY=1SU
END:STANDARD
BEGIN:DAYLIGHT
TZOFFSETFROM:+1000
TZOFFSETTO:+1100
TZNAME:AEDT
DTSTART:19701004T020000
RRULE:FREQ=YEARLY;BYMONTH=10;BYDAY=1SU
END:DAYLIGHT
END:VTIMEZONE
CALSCALE:GREGORIAN
X-WR-TIMEZONE:Australia/Sydney
BEGIN:VEVENT
DTSTART;TZID=Australia/Sydney:20200304T141500
DTEND;TZID=Australia/Sydney:20200304T150000
DTSTAMP:20200304T000000Z
UID:c78757b8-a4b6-4a58-92aa-b9f95f4d74aa
LOCATION:Secondary COLA
SUMMARY;LANGUAGE=en-us:Whole School Assembly
SEQUENCE:0
DESCRIPTION:Whole School Assembly
END:VEVENT
TRANSP:TRANSPARENT
END:VCALENDAR
